BEGIN:VCALENDAR
VERSION:2.0
PRODID:-//SALUTE! / DONK - ECPv6.0.12//NONSGML v1.0//EN
CALSCALE:GREGORIAN
METHOD:PUBLISH
X-ORIGINAL-URL:https://festival.donkhm.org
X-WR-CALDESC:Eventi per SALUTE! / DONK
REFRESH-INTERVAL;VALUE=DURATION:PT1H
X-Robots-Tag:noindex
X-PUBLISHED-TTL:PT1H
BEGIN:VTIMEZONE
TZID:UTC
BEGIN:STANDARD
TZOFFSETFROM:+0000
TZOFFSETTO:+0000
TZNAME:UTC
DTSTART:20230101T000000
END:STANDARD
END:VTIMEZONE
BEGIN:VEVENT
DTSTART;TZID=UTC:20230720T093000
DTEND;TZID=UTC:20231001T193000
DTSTAMP:20260421T201507
CREATED:20230711T100635Z
LAST-MODIFIED:20230912T181457Z
UID:22029-1689845400-1696188600@festival.donkhm.org
SUMMARY:Cambiare Rotta
DESCRIPTION:Programma 		\n				\n				\n				\n								\n				Venerdì 27\, sabato 28 e domenica 29 settembre 2024 i volontari e le volontarie di Donk HM odv saranno presenti in Piazza Unità d’Italia in occasione della 13^ edizione della manifestazione Trieste Next\, il festival della ricerca scientifica\, per far conoscere le attività e i progetti della nostra associazione.  Sarà un’occasione per ascoltare l’esperienza di chi è in prima linea nell’assicurare cure mediche a tutti.  
URL:https://festival.donkhm.org/event/cambiare-rotta/
LOCATION:La Feltrinelli\, Via Mazzini\, 39\, Trieste\, Italia\, 34122\, Italia
CATEGORIES:FESTIVAL 2023
ATTACH;FMTTYPE=image/jpeg:https://festival.donkhm.org/wp-content/uploads/2023/07/Cambiare-Rotta_terzo-evento-del-Festival-SALUTE-scaled.jpg
ORGANIZER;CN="DONK%20HM%20ODV":MAILTO:segreteria@donkhm.org
END:VEVENT
BEGIN:VEVENT
DTSTART;TZID=UTC:20231020T183000
DTEND;TZID=UTC:20231020T203000
DTSTAMP:20260421T201507
CREATED:20231004T174118Z
LAST-MODIFIED:20231018T114437Z
UID:22145-1697826600-1697833800@festival.donkhm.org
SUMMARY:“Prendersi cura” - Incontro di sensibilizzazione sulla tutela volontaria di minori stranieri non accompagnati
DESCRIPTION:Programma 		\n				\n				\n				\n								\n				Venerdì 27\, sabato 28 e domenica 29 settembre 2024 i volontari e le volontarie di Donk HM odv saranno presenti in Piazza Unità d’Italia in occasione della 13^ edizione della manifestazione Trieste Next\, il festival della ricerca scientifica\, per far conoscere le attività e i progetti della nostra associazione.  Sarà un’occasione per ascoltare l’esperienza di chi è in prima linea nell’assicurare cure mediche a tutti.  
URL:https://festival.donkhm.org/event/prendersi-cura-incontro-di-sensibilizzazione-sulla-tutela-volontaria-di-minori-stranieri-non-accompagnati/
LOCATION:Sala G. Costantinides – Civico Museo Sartorio\, Largo Papa Giovanni XXII\, n. 1\, Trieste
CATEGORIES:FESTIVAL 2023
ATTACH;FMTTYPE=image/jpeg:https://festival.donkhm.org/wp-content/uploads/2023/10/SALUTE-evento-20.10_evento-Unicef.jpg
END:VEVENT
END:VCALENDAR